Workbook

Sheet Фасад СОШ 18468
A2: ВЕДОМОСТЬ ДОГОВОРНОЙ ЦЕНЫ
A3: на наружные отделочные работы
A4: на объекте: "Проектирование и строительство общеобразовательной организации на 1550 мест на земельном участке с кадастровым номером 23:43:0118001:18468 в Прикубанском внутригородском округе г. Краснодара"
A6: № | B6: Наименование работ | C6: Нормы расхода | D6: Ед.изм. | E6: Кол-во | F6: Цена за ед. изм., руб., без учета НДС | I6: Стоимость, руб., без учета НДС | L6: Примечание
F7: Всего | G7: в том числе | I7: Всего | J7: в том числе
G8: Работа | H8: Материал | J8: Работа | K8: Материал
B9: Блок А1, А2 | M9: Объемы по спецификации А2402-АР лист 7.14-7.15
B10: Ниже отм. 0,000 (цоколь) | M10: расход по А2402-АР лист 7.363
B11: Тип С-2
A12: =A11+1 -> 1 | B12: Нанесение базового штукатурного слоя с двойным армированием стеклосеткой - 10 мм | D12: м2 | E12: 7.53 | F12: =G12+H12 -> 0 | I12: =J12+K12 -> 0 | J12: =G12*E12 -> 0 | K12: =H12*E12 -> 0
A13: =A12+1 -> 2 | B13: Смесь Церезит СТ85 (или аналог) - 10 мм | C13: =5 -> 5 | D13: кг | E13: =ROUND(E12*C13,2) -> 37.65 | F13: =G13+H13 -> 0 | I13: =J13+K13 -> 0 | J13: =G13*E13 -> 0 | K13: =H13*E13 -> 0 | L13: Материал подрядчика
A14: =A13+1 -> 3 | B14: Стеклосетка (2 слоя) | C14: 2.2 | D14: м2 | E14: =ROUND(E12*C14,2) -> 16.57 | F14: =G14+H14 -> 0 | I14: =J14+K14 -> 0 | J14: =G14*E14 -> 0 | K14: =H14*E14 -> 0 | L14: Материал подрядчика
A15: =A14+1 -> 4 | B15: Облицовка стен плиткой из керамогранита | D15: м2 | E15: 7.53 | F15: =G15+H15 -> 0 | I15: =J15+K15 -> 0 | J15: =G15*E15 -> 0 | K15: =H15*E15 -> 0
A16: =A15+1 -> 5 | B16: Грунтовка ФОРБО 050 (или аналог) | C16: =(30/1000+60/1000)/2 -> 0.045 | D16: кг | E16: =ROUND(E15*C16,2) -> 0.34 | F16: =G16+H16 -> 0 | I16: =J16+K16 -> 0 | J16: =G16*E16 -> 0 | K16: =H16*E16 -> 0 | L16: Материал подрядчика
A17: =A16+1 -> 6 | B17: Клей плиточный ФОРБО Eurocol 756 EUROBOND (или аналог) - 7мм | C17: 4.2 | D17: кг | E17: =ROUND(E15*C17,2) -> 31.63 | F17: =G17+H17 -> 0 | I17: =J17+K17 -> 0 | J17: =G17*E17 -> 0 | K17: =H17*E17 -> 0 | L17: Материал подрядчика
A18: =A17+1 -> 7 | B18: Затирка швов Церезит СЕ40 AQUASTATIC (или аналог) (цвет темно-серый в цвет плитки) | C18: 0.3 | D18: кг | E18: =ROUND(E15*C18,2) -> 2.26 | F18: =G18+H18 -> 0 | I18: =J18+K18 -> 0 | J18: =G18*E18 -> 0 | K18: =H18*E18 -> 0 | L18: Материал подрядчика
A19: =A18+1 -> 8 | B19: Плитка керамогранитная VITRA (или аналог) 400х600 (цвет темно-серый) ректификат, класс износостойкости не менее 4, класс стойкости к образованию пятен не менее 4, толщиной не менее 8мм | C19: =1.1 -> 1.1 | D19: м2 | E19: =ROUND(E15*C19,2) -> 8.28 | F19: =G19+H19 -> 0 | I19: =J19+K19 -> 0 | J19: =G19*E19 -> 0 | K19: =H19*E19 -> 0 | L19: Материал Заказчика
B20: Тип С-8
A21: 9 | B21: Облицовка стен плиткой из керамогранита | D21: м2 | E21: 50.87 | F21: =G21+H21 -> 0 | I21: =J21+K21 -> 0 | J21: =G21*E21 -> 0 | K21: =H21*E21 -> 0
A22: =A21+1 -> 10 | B22: Грунтовка ФОРБО 050 (или аналог) | C22: =(30/1000+60/1000)/2 -> 0.045 | D22: кг | E22: =ROUND(E21*C22,2) -> 2.29 | F22: =G22+H22 -> 0 | I22: =J22+K22 -> 0 | J22: =G22*E22 -> 0 | K22: =H22*E22 -> 0 | L22: Материал подрядчика
A23: =A22+1 -> 11 | B23: Клей плиточный ФОРБО Eurocol 756 EUROBOND (или аналог) - 7мм | C23: 4.2 | D23: кг | E23: =ROUND(E21*C23,2) -> 213.65 | F23: =G23+H23 -> 0 | I23: =J23+K23 -> 0 | J23: =G23*E23 -> 0 | K23: =H23*E23 -> 0 | L23: Материал подрядчика
A24: =A23+1 -> 12 | B24: Затирка швов Церезит СЕ40 AQUASTATIC (или аналог) (цвет темно-серый в цвет плитки) | C24: 0.3 | D24: кг | E24: =ROUND(E21*C24,2) -> 15.26 | F24: =G24+H24 -> 0 | I24: =J24+K24 -> 0 | J24: =G24*E24 -> 0 | K24: =H24*E24 -> 0 | L24: Материал подрядчика
A25: =A24+1 -> 13 | B25: Плитка керамогранитная VITRA (или аналог) 400х600 (цвет темно-серый) ректификат, класс износостойкости не менее 4, класс стойкости к образованию пятен не менее 4, толщиной не менее 8мм | C25: =1.1 -> 1.1 | D25: м2 | E25: =ROUND(E21*C25,2) -> 55.96 | F25: =G25+H25 -> 0 | I25: =J25+K25 -> 0 | J25: =G25*E25 -> 0 | K25: =H25*E25 -> 0 | L25: Материал Заказчика
B26: Тип С-10
A27: 14 | B27: Отделка стен армированными цементно-минеральными плитами - 12,5 мм | D27: м2 | E27: 0.42 | F27: =G27+H27 -> 0 | I27: =J27+K27 -> 0 | J27: =G27*E27 -> 0 | K27: =H27*E27 -> 0
A28: =A27+1 -> 15 | B28: Армированные цементно-минеральные плиты АКВАПАНЕЛЬ Наружная -12,5мм | C28: 1.1 | D28: м2 | E28: =ROUND(E27*C28,2) -> 0.46 | F28: =G28+H28 -> 0 | I28: =J28+K28 -> 0 | J28: =G28*E28 -> 0 | K28: =H28*E28 -> 0
A29: =A28+1 -> 16 | B29: Облицовка стен плиткой из керамогранита | D29: м2 | E29: 0.42 | F29: =G29+H29 -> 0 | I29: =J29+K29 -> 0 | J29: =G29*E29 -> 0 | K29: =H29*E29 -> 0
A30: =A29+1 -> 17 | B30: Клей плиточный ФОРБО Eurocol 756 EUROBOND (или аналог) - 7мм | C30: 4.2 | D30: кг | E30: =ROUND(E29*C30,2) -> 1.76 | F30: =G30+H30 -> 0 | I30: =J30+K30 -> 0 | J30: =G30*E30 -> 0 | K30: =H30*E30 -> 0 | L30: Материал подрядчика
A31: =A30+1 -> 18 | B31: Затирка швов Церезит СЕ40 AQUASTATIC (или аналог) (цвет темно-серый в цвет плитки) | C31: 0.3 | D31: кг | E31: =ROUND(E29*C31,2) -> 0.13 | F31: =G31+H31 -> 0 | I31: =J31+K31 -> 0 | J31: =G31*E31 -> 0 | K31: =H31*E31 -> 0 | L31: Материал подрядчика
A32: =A31+1 -> 19 | B32: Плитка керамогранитная VITRA (или аналог) 400х600 (цвет темно-серый) ректификат, класс износостойкости не менее 4, класс стойкости к образованию пятен не менее 4, толщиной не менее 8мм | C32: =1.1 -> 1.1 | D32: м2 | E32: =ROUND(E29*C32,2) -> 0.46 | F32: =G32+H32 -> 0 | I32: =J32+K32 -> 0 | J32: =G32*E32 -> 0 | K32: =H32*E32 -> 0 | L32: Материал Заказчика
B33: Выше отм. 0,000
B34: Тип стены С-5, С6
A35: 20 | B35: Нанесение штукатурно-клеевой смеси - 10 мм | D35: м2 | E35: 1331.18 | F35: =G35+H35 -> 0 | I35: =J35+K35 -> 0 | J35: =G35*E35 -> 0 | K35: =H35*E35 -> 0
A36: =A35+1 -> 21 | B36: Смесь Церезит СТ180 (или аналог) - 10 мм | C36: 6 | D36: кг | E36: =ROUND(E35*C36,2) -> 7987.08 | F36: =G36+H36 -> 0 | I36: =J36+K36 -> 0 | J36: =G36*E36 -> 0 | K36: =H36*E36 -> 0 | L36: Материал подрядчика
A37: =A36+1 -> 22 | B37: Устройство утеплителя из минераловатных плит - 100 мм | D37: м2 | E37: =133.06/0.1 -> 1330.6 | F37: =G37+H37 -> 0 | I37: =J37+K37 -> 0 | J37: =G37*E37 -> 0 | K37: =H37*E37 -> 0
A38: =A37+1 -> 23 | B38: Утеплитель из минераловатных плит Роквул Фасад Баттс Д Оптима (или аналог) - 100 мм | C38: =1.03*0.1 -> 0.103 | D38: м3 | E38: =ROUND(E37*C38,2) -> 137.05 | F38: =G38+H38 -> 0 | I38: =J38+K38 -> 0 | J38: =G38*E38 -> 0 | K38: =H38*E38 -> 0 | L38: Материал Заказчика
A39: =A38+1 -> 24 | B39: Нанесение базового слоя из штукатурно-клеевой смеси с армированием щелочестойкой стеклосеткой - 10 мм | D39: м2 | E39: 1330.65 | F39: =G39+H39 -> 0 | I39: =J39+K39 -> 0 | J39: =G39*E39 -> 0 | K39: =H39*E39 -> 0
A40: =A39+1 -> 25 | B40: Смесь Церезит СТ190 (или аналог) армированная щелочестойкой стеклосеткой - 10 мм | C40: 6 | D40: кг | E40: =ROUND(E39*C40,2) -> 7983.9 | F40: =G40+H40 -> 0 | I40: =J40+K40 -> 0 | J40: =G40*E40 -> 0 | K40: =H40*E40 -> 0 | L40: Материал подрядчика
A41: =A40+1 -> 26 | B41: Щелочестойкая стеклосетка (1 слой) | C41: 1.1 | D41: м2 | E41: =ROUND(E39*C41,2) -> 1463.72 | F41: =G41+H41 -> 0 | I41: =J41+K41 -> 0 | J41: =G41*E41 -> 0 | K41: =H41*E41 -> 0 | L41: Материал подрядчика
A42: =A41+1 -> 27 | B42: Устройство декоративно-защитного покрытия - 5 мм | D42: м2 | E42: 1330.59 | F42: =G42+H42 -> 0 | I42: =J42+K42 -> 0 | J42: =G42*E42 -> 0 | K42: =H42*E42 -> 0
...

Sheet по проекту общее
B2: Потолок | C2: Потолок | D2: Стены | E2: Стены | F2: полы | G2: полы
A3: Наименование помещ. | B3: тип отделки | C3: площадь | D3: тип отделки | E3: площадь | F3: тип отделки | G3: площадь
A4: на отм. -3,700
A5: Подвал, ВНС, ИТП, электрощитовая,узел ввода, кладовая уборочного инвентаря | B5: затирка | C5: =905.6+5.2 -> 910.8 | D5: затирка | E5: =1971+18.2 -> 1989.2 | F5: армированная фиброволокном стяжка из ЦПС М150 60 мм | G5: =40.6+19.4+7.3 -> 67.3
A6: Подвал, ВНС, ИТП, электрощитовая,узел ввода, кладовая уборочного инвентаря | B6: шпатлевка | C6: =905.6+5.2 -> 910.8 | D6: цпс штукатурка | E6: =69.7+69.7+26.4 -> 165.8 | F6: плитка на клею 20 мм | G6: =5.2+40.6+19.4+7.3 -> 72.5
A7: Подвал, ВНС, ИТП, электрощитовая,узел ввода, кладовая уборочного инвентаря | B7: грунтовка | C7: =905.6+5.2 -> 910.8 | D7: грунтовка | E7: =1971+18.2 -> 1989.2 | F7: краска ВИТ АК-518 | G7: 842
A8: Подвал, ВНС, ИТП, электрощитовая,узел ввода, кладовая уборочного инвентаря | B8: окраска вэ краской в 2 слоя | C8: =905.6+5.2 -> 910.8 | D8: окраска вэ краской в 2 слоя | E8: =1971+18.2+2.2 -> 1991.4 | F8: Грунтовка по отшлифованной поверхности | G8: 842
A9: Подвал, ВНС, ИТП, электрощитовая,узел ввода, кладовая уборочного инвентаря | D9: окраска вэ краской | E9: =69.7+69.7+11.7 -> 151.1 | F9: ГПС 440 мм | G9: 7.3
A10: Подвал, ВНС, ИТП, электрощитовая,узел ввода, кладовая уборочного инвентаря | D10: облицовка плиткой на высоту 2 м | E10: =3.2+11.7 -> 14.9 | F10: Бетонная подготовка 80 мм | G10: =40.6+19.4+7.3 -> 67.3
A11: Подвал, ВНС, ИТП, электрощитовая,узел ввода, кладовая уборочного инвентаря | D11: шпатлевка | E11: 11.7 | F11: армированная фиброволокном стяжка из ЦПС М150 80 мм | G11: =842+5.2 -> 847.2
A12: Подвал, ВНС, ИТП, электрощитовая,узел ввода, кладовая уборочного инвентаря | F12: ГПС 90 мм | G12: 40.6
A13: Подвал, ВНС, ИТП, электрощитовая,узел ввода, кладовая уборочного инвентаря | F13: ГПС 390 мм | G13: 19.4
A14: на отм. 0,000
A15: Тамбур, Вестибюль,Комната уюорочного инвентаря,Офисы | B15: затирка | C15: =63.2+686+77.9 -> 827.1 | D15: затирка | E15: =86.6+1056.8+140.8+66.8+486+243.2+43.7 -> 2123.9 | F15: плитка на клею 20 мм | G15: =101 -> 101
A16: Тамбур, Вестибюль,Комната уюорочного инвентаря,Офисы | B16: подвесной потолок "Грильято" | C16: 63.2 | D16: грунтовка | E16: =86.6+66.8+3.7 -> 157.1 | F16: армированная фиброволокном стяжка из ЦПС М150 50 мм | G16: =101+686 -> 787
A17: Тамбур, Вестибюль,Комната уюорочного инвентаря,Офисы | D17: окраска вэ краской в 2 слоя | E17: =86.6+66.8+43.7 -> 197.1 | F17: утеплитель пеноплекс 30 мм | G17: =101+686+77.9 -> 864.9
A18: Тамбур, Вестибюль,Комната уюорочного инвентаря,Офисы | D18: шпатлевка | E18: =21.6+43.7 -> 65.3 | F18: гидроизоляция обмазочная битумная в 2 слоя | G18: 77.9
A19: Тамбур, Вестибюль,Комната уюорочного инвентаря,Офисы | D19: окраска вэ краской | E19: =21.6 -> 21.6 | F19: армированная фиброволокном стяжка из ЦПС М150 60 мм | G19: 77.9
A20: Тамбур, Вестибюль,Комната уюорочного инвентаря,Офисы | D20: штукатурка по утеплителю | E20: =43.7 -> 43.7 | F20: пароизоляция | G20: 101
A21: Тамбур, Вестибюль,Комната уюорочного инвентаря,Офисы | D21: гипсовая штукатурка | E21: =21.6+4.1 -> 25.7
A22: жилые этажи 2-7 эт.
A23: коридор. Помещения квартир. Лестничная клетка | B23: затирка | C23: =481.2+4204.4+37.4+262 -> 4985 | D23: затирка | E23: =179+5047.2+742.212+6591.6+138 -> 12698.012 | F23: плитка на клею 20 мм | G23: =481.2+180.44+115 -> 776.64
B24: шпатлевка | C24: =481.2+37.4+262 -> 780.6 | D24: шпатлевка | E24: =1179+742.2+120+138+134.5+35.2 -> 2348.9 | F24: армированная фиброволокном стяжка из ЦПС М150 60 мм | G24: =481.2+400.4 -> 881.6
B25: грунтовка | C25: =481.2+37.4+262 -> 780.6 | D25: окраска вэ краской | E25: =481.2+37.4+262+1179+742.2+120+138+134.5+35.2 -> 3129.5 | F25: армированная фиброволокном стяжка из ЦПС М150 80 мм | G25: =3804+115 -> 3919
B26: окраска вэ краской | C26: =481.2+37.4+262 -> 780.6 | D26: грунтовка | E26: =481.2+37.4+262+1179+742.2+120+138+134.5+35.2 -> 3129.5 | F26: звукоизоляция изоком ппи-п 5 мм | G26: =400.4+3804 -> 4204.4
D27: гипсовая штукатурка | E27: =134.5+35.2 -> 169.7 | F27: гидроизоляция обмазочная битумная в 2 слоя | G27: 400.4
B28: Потолок | D28: Стены | F28: Полы
B29: тип отделки | C29: площадь | D29: тип отделки | E29: площадь | F29: тип отделки | G29: площадь
A30: ИТОГО | B30: затирка | C30: =C5+C15+C23 -> 6722.9 | D30: затирка | E30: =E23+E15+E5 -> 16811.112 | F30: армированная фиброволокном стяжка из ЦПС М150 60 мм | G30: =G24+G19+G5 -> 1026.8
B31: шпатлевка | C31: =C24+C6 -> 1691.4 | D31: грунтовка | E31: =E26+E16+E7 -> 5275.8 | F31: плитка на клею 20 мм | G31: =G23+G15+G6 -> 950.14
B32: грунтовка | C32: =C7+C25 -> 1691.4 | D32: окраска вэ краской в 2 слоя | E32: =E8+E17 -> 2188.5 | F32: краска ВИТ АК-518 | G32: =G7 -> 842
B33: окраска вэ краской | C33: =C26 -> 780.6 | D33: шпатлевка | E33: =E24+E18+E11 -> 2425.9 | F33: Грунтовка по отшлифованной поверхности | G33: =G8 -> 842
B34: окраска вэ краской в 2 слоя | C34: =C8 -> 910.8 | D34: окраска вэ краской | E34: =E19+E9 -> 172.7 | F34: ГПС 440 мм | G34: =G9 -> 7.3
B35: подвесной потолок "Грильято" | C35: =C16 -> 63.2 | D35: штукатурка по утеплителю | E35: =E20 -> 43.7 | F35: Бетонная подготовка 80 мм | G35: =G10 -> 67.3
D36: гипсовая штукатурка | E36: =E21+E27 -> 195.4 | F36: армированная фиброволокном стяжка из ЦПС М150 80 мм | G36: =G25+G11 -> 4766.2
D37: цпс штукатурка | E37: =E6 -> 165.8 | F37: ГПС 90 мм | G37: =G12 -> 40.6
D38: облицовка плиткой на высоту 2 м | E38: =E10 -> 14.9 | F38: гидроизоляция обмазочная битумная в 2 слоя | G38: =G18+G27 -> 478.3
F39: звукоизоляция изоком ппи-п 5 мм | G39: =G26 -> 4204.4
F40: армированная фиброволокном стяжка из ЦПС М150 50 мм | G40: =G16 -> 787
F41: ГПС 390 мм | G41: =G13 -> 19.4
...

Sheet В работу
K2: Екатерининская 3 Бс1+БС2 | R2: Южный на 4 литера
A3: ИТОГО отделка МОП цоколь | J3: ИТОГО ОТДЕКЛА | Q3: ИТОГО ОТДЕКЛА
B4: стены | D4: ='расчет общий'!D42 -> 548.7978 | K4: стены | L4: =D4+D21+D31+D13+D41 -> 15604.29 | M4: м2 | R4: стены | S4: =L4*4 -> 62417.16 | T4: м2
B5: полы | D5: ='расчет общий'!D43 -> 163.57 | K5: полы | L5: =D5+D22+D32+D14+D42 -> 7091.63 | M5: м2 | R5: полы | S5: =L5*4 -> 28366.52 | T5: м2
B6: потолок | D6: ='расчет общий'!D44 -> 163.57 | K6: потолок | L6: =D6+D23+D33+D15+D43 -> 7143.31 | M6: м2 | R6: потолок | S6: =L6*4 -> 28573.24 | T6: м2
A7: откосы | B7: дверной проем | C7: ='расчет общий'!C45 -> 20.7 | D7: ='расчет общий'!D45 -> 0 | J7: откосы | K7: дверной проем | L7: =C7+C16+C24+C34+C44 -> 2514.96 | M7: м.п | Q7: откосы | R7: дверной проем | S7: =L7*4 -> 10059.84 | T7: м.п
A8: сапожок, м.п. | B8: полы | C8: ='расчет общий'!C46 -> 211.34 | D8: ='расчет общий'!D46 -> 0 | K8: оконный проем | L8: =C17+C25+C35+C45 -> 1801.68 | M8: м.п | R8: оконный проем | S8: =L8*4 -> 7206.72 | T8: м.п
B9: ступень и подступенок, м.п. | C9: ='расчет общий'!C47 -> 224 | D9: ='расчет общий'!D47 -> 6.3 | J9: сапожок, м.п. | K9: полы | L9: =C8+C26+C36 -> 1423.77 | M9: м.п | Q9: сапожок, м.п. | R9: полы | S9: =L9*4 -> 5695.08 | T9: м.п
K10: ступень и подступенок, м.п. | L10: =C27+C37+C9 -> 2846.4 | M10: м.п | R10: ступень и подступенок, м.п. | S10: =L10*4 -> 11385.6 | T10: м.п
A12: Итого отделка 1 эт. Офисы без су
B13: стены | D13: ='расчет общий'!J50 -> 1505.49
B14: полы | D14: ='расчет общий'!J51 -> 701.2
B15: потолок | D15: ='расчет общий'!J52 -> 698
A16: откосы | B16: дверной проем | C16: ='расчет общий'!I53 -> 83.2
B17: оконный проем | C17: ='расчет общий'!I54 -> 132.84
A20: Итого отделка МОП 1 эт.
B21: стены | D21: ='расчет общий'!J34 -> 438.7722
B22: полы | D22: ='расчет общий'!J35 -> 94.26
B23: потолок | D23: ='расчет общий'!J36 -> 103.06
A24: откосы | B24: дверной проем | C24: ='расчет общий'!I37 -> 68.42
B25: оконный проем | C25: ='расчет общий'!I38 -> 0
A26: сапожок, м.п. | B26: полы | C26: ='расчет общий'!I39 -> 78.9576
A27: Ступень + подступенок, м.п. | B27: ступень и подступенок, м.п. | C27: ='расчет общий'!I40 -> 114.4
A30: Итого отделка МОП тип эт.( 6 шт)
B31: стены | D31: ='расчет общий'!P30 -> 2021.9784
B32: полы | D32: ='расчет общий'!P31 -> 2088.6 | E32: учтены лестничные площадки
B33: потолок | D33: ='расчет общий'!P32 -> 2134.68
A34: откосы | B34: дверной проем | C34: ='расчет общий'!O33 -> 0
B35: оконный проем | C35: ='расчет общий'!O34 -> 35.64
A36: сапожок, м.п. | B36: полы | C36: ='расчет общий'!O35 -> 1133.472
A37: Ступень + подступенок, м.п. | B37: ступень и подступенок, м.п. | C37: ='расчет общий'!O36 -> 2508
A40: Итого отделка тип. эт.(6 шт) кв без су
B41: стены | D41: ='расчет общий'!P46 -> 11089.248
B42: полы | D42: ='расчет общий'!P47 -> 4044
B43: потолок | D43: ='расчет общий'!P48 -> 4044
A44: откосы | B44: дверной проем | C44: ='расчет общий'!O49 -> 2342.64
B45: оконный проем | C45: ='расчет общий'!O50 -> 1633.2
A50: ИТОГО ОТДЕКЛА МОП
B51: стены | C51: =D4+D21+D31 -> 3009.5484 | D51: м2
B52: полы | C52: =D5+D22+D32 -> 2346.43 | D52: м2
...

Sheet расчет общий
A1: ЕК3
A2: Подвал h=3,4 м | G2: 1 этаж h=3,75 м | M2: 2-7 этаж h=2,7 м | S2: витражи | T2: размеры | U2: площадь
A3: типа помещения | B3: Тип отделки | C3: Периметр, м | D3: Площадь,м2 | G3: типа помещения | H3: Тип отделки | I3: Периметр, м | J3: Площадь,м2 | M3: типа помещения | N3: Тип отделки | O3: Периметр, м | P3: Площадь,м2 | S3: в1 | T3: 2,56*2,88 | U3: =2.56*2.88 -> 7.3728
A4: ИТП,ВНС | B4: стены | C4: 28.44 | D4: =C4*3.4-1*2.1 -> 94.596 | G4: офисы | H4: стены | I4: =(28.74*6+28.93*2)*2 -> 460.6 | J4: =I4*3.75-U5*8*2-2*U6*2-U7*2-2*U8*2-2*U10*2-U11*2 -> 1505.49 | M4: квартиры | N4: стены | O4: =(53.16*2+58.3*2+43.31*2+49.5+61.94)*2*6-7*2*6 -> 4967.76 | P4: =O4*2.7-(0.8*2.1*8+17*0.9*2.1+8*1*2.1+U34*8+U32*8+U12*8)*2*6 -> 11089.248 | S4: в2 | T4: 2,27*3,75 | U4: =2.27*3.75 -> 8.5125
B5: полы | D5: 39.84 | H5: полы | J5: =44.2*6*2+41.9*2*2+0.2*8*2 -> 701.2 | N5: полы | P5: =(44.8+42+65.7+44.8+39.8+48.3+39.5+48.3-36.2)*2*6 -> 4044 | S5: в3 | T5: 2,27*2,88 | U5: =2.27*2.88 -> 6.5376
B6: потолок | D6: =D5 -> 39.84 | H6: потолок | J6: =44.2*6*2+41.9*2*2 -> 698 | N6: потолок | P6: =P5 -> 4044 | S6: в4 | T6: 2,67*2,88 | U6: =2.67*2.88 -> 7.6896
A7: откосы | B7: дверной проем | C7: =2.1*2+1 -> 5.2 | G7: откосы | H7: дверной проем | I7: =8*2*2.1*2+8*1*2 -> 83.2 | M7: откосы | N7: дверной проем | O7: =(5*1+3*1+2.1*8*2+8*0.8+2.1*17+34*0.9+36*2.1+2.1*2+1.12)*2*6 -> 2342.64 | S7: в5 | T7: 2,46*2,88 | U7: =2.46*2.88 -> 7.0848
A8: сапожок, м.п. | B8: полы | C8: =C4-1 -> 27.44 | H8: оконный проем | I8: =(2.67*2+2.46+2.48*2+2*2.61+2.36+2.88*8*2)*2 -> 132.84 | N8: оконный проем | O8: =(8*2*3.68+8*2*2.8+8*1.63+8*1.68+1.37*2+1.6*2)*2*6 -> 1633.2 | S8: в6 | T8: 2,48*2,88 | U8: =2.48*2.88 -> 7.1424
A9: Кладовая уборочного инвентаря | B9: стены | C9: 9.847 | D9: =C9*3.4-0.9*2.1 -> 31.5898 | G9: сапожок, м.п. | H9: полы | I9: =(I4-8-8*2.27-2.67-2*2.48-2*2.61-2.36)*2 -> 838.46 | M9: сапожок, м.п. | N9: полы | O9: =O4-0.8*8*2*6-0.9*16*6*2*-1*6*8*2-1.5*2*6*8 -> 21335.76 | S9: в7 | T9: 1,2*2,1 | U9: =1.2*2.1 -> 2.52
B10: полы | D10: 5.3 | G10: офисы сан.узлы | H10: стены | I10: =9.3*8*2 -> 148.8 | J10: =I10*3.75-U22*8*2 -> 524.4 | M10: квартиры су | N10: стены | O10: =8.68*8*2*6 -> 833.28 | P10: =O10*2.7-2.1*0.8*8 -> 2236.416 | S10: в8 | T10: 2,61*2,88 | U10: =2.61*2.88 -> 7.5168
B11: потолок | D11: =D10 -> 5.3 | H11: полы | J11: =4.9*8*2 -> 78.4 | N11: полы | P11: =(4.5+4.7+4.4+4.5+4.5+4.4+4.5+4.7)*2*6 -> 434.4 | S11: в9 | T11: 2,36*2,88 | U11: =2.36*2.88 -> 6.7968
A12: откосы | B12: дверной проем | C12: =0.9+2.1*2 -> 5.1 | H12: потолок | J12: =J11 -> 78.4 | N12: потолок | P12: =P11 -> 434.4 | S12: вл1 | T12: 3,68*2,8 | U12: =3.68*2.8 -> 10.304
A13: сапожок, м.п. | B13: полы | C13: =C9-0.81 -> 9.037 | G13: сапожок, м.п. | H13: полы | I13: =I10-1*8*2 -> 132.8 | M13: сапожок, м.п. | N13: полы | O13: =(69.44-0.8*8)*2*6 -> 756.48
A14: Узел ввода | B14: стены | C14: =11.3 -> 11.3 | D14: =C14*3.4-0.9*2.1 -> 36.53 | G14: МОП Табмур | H14: стены | I14: =12.8*2 -> 25.6 | J14: =I14*3.75-(U4-U5)*2 -> 92.0502 | M14: стоякки | S14: двери | T14: размеры | U14: площадь
B15: полы | D15: =7.3 -> 7.3 | H15: полы | J15: =10.08*2 -> 20.16 | M15: шахты | S15: 1 | T15: 1*2,1 | U15: =1*2.1 -> 2.1
B16: потолок | D16: =D15 -> 7.3 | H16: потолок | J16: =J15 -> 20.16 | M16: МОП коридор | N16: стены | O16: =49.15*6*2 -> 589.8 | P16: =O16*2.7-(U25*8+U21+U27*2+1.1*2.1)*6 -> 1443.528 | S16: 2 | T16: 1*2,1 | U16: =1*2.1 -> 2.1
A17: откосы | B17: дверной проем | C17: =1+2.1*2 -> 5.2 | G17: откосы | H17: дверной проем | I17: =(2.56+2.27+2.88*2+3.75*2)*2 -> 36.18 | N17: полы | P17: =49.15*6*2 -> 589.8 | S17: 3 | T17: 1*2,1 | U17: =1*2.1 -> 2.1
A18: сапожок, м.п. | B18: полы | C18: =C14-1 -> 10.3 | H18: оконный проем | I18: 0 | N18: потолок | P18: =P17 -> 589.8 | S18: 4 | T18: 1*2,1 | U18: =1*2.1 -> 2.1
A19: Электрощитовая | B19: стены | C19: 20.16 | D19: =C19*3.4-1*2.1 -> 66.444 | G19: сапожок, м.п. | H19: полы | I19: =I14-2.56*2.27*2 -> 13.9776 | M19: откосы | N19: дверной проем | P19: =2*6*2*1.2+1.4*2*6*2+2.1*6*2*2+1.12*6*2 -> 126.24 | S19: 5 | T19: 0,9*2,1 | U19: =0.9*2.1 -> 1.89
B20: полы | D20: 19.73 | G20: МОП Вестибюль | H20: стены | I20: =23.64*2 -> 47.28 | J20: =I20*3.75-(U20-U4)*2 -> 189.621 | N20: оконный проем | S20: 6 | T20: 1,12*2,1 | U20: =1.12*2.1 -> 2.352
B21: потолок | D21: =D20 -> 19.73 | H21: полы | J21: =22.25*2 -> 44.5 | M21: сапожок, м.п. | N21: полы | O21: =O16-8*1*6*2-2*6*1.2*2-2*6*1.12-1.1*6*2 -> 438.36 | S21: 7 | T21: 1,12*2,1 | U21: =1.12*2.1 -> 2.352
A22: откосы | B22: дверной проем | C22: =1+2.1*2 -> 5.2 | H22: потолок | J22: =J21 -> 44.5 | M22: МОП лестничная клетка | N22: стены | O22: =17.026*2*6 -> 204.312 | P22: =O22*2.7-(1.1*2.1-U21-U33)*2*6 -> 578.4504 | S22: 8 | T22: 1*2,1 | U22: =1*2.1 -> 2.1
A23: сапожок, м.п. | B23: полы | C23: =C19-1 -> 19.16 | G23: откосы | H23: дверной проем | I23: =1.12*2+2.1*2*2 -> 10.64 | N23: полы | P23: =(96+28.9)*2*6 -> 1498.8 | S23: 9 | T23: 1*2,1 | U23: =1*2.1 -> 2.1
A24: Коридор | B24: стены | C24: 96.42 | D24: =C24*3.4-1*2.1*3-0.9*2.1 -> 319.638 | H24: оконный проем | I24: 0 | N24: потолок | P24: =3.2*2*1.2*6+P23 -> 1544.88 | S24: 10 | T24: 1*2,1 | U24: =1*2.1 -> 2.1
B25: полы | D25: 91.4 | G25: сапожок, м.п. | H25: полы | I25: =I20-(1.12-2.27)*2 -> 49.58 | M25: откосы | N25: дверной проем | S25: 11 | T25: 1*2,1 | U25: =1*2.1 -> 2.1
B26: потолок | D26: =D25 -> 91.4 | G26: МОП Лестнпичная клетка | H26: стены | I26: =20.23*2 -> 40.46 | J26: =I26*3.75-(U20-1.2*2.1-U9)*2 -> 157.101 | N26: оконный проем | O26: =6*2*1.37+6*2*1.6 -> 35.64 | S26: 12 | T26: 1,2*2,1 | U26: =1.2*2.1 -> 2.52
A27: откосы | B27: дверной проем | H27: полы | J27: =14.8*2 -> 29.6 | M27: сапожок, м.п. | N27: полы | O27: =O22-1.1*6*2+42*2*6 -> 695.112 | S27: 13 | T27: 1,2*1,4 | U27: =1.2*1.4 -> 1.68
A28: сапожок, м.п. | B28: полы | C28: =C24-1*3-0.9 -> 92.52 | H28: потолок | J28: =19.2*2 -> 38.4 | M28: Ступень + подступенок, м.п. | N28: ступень и подступенок, м.п. | O28: =209*6*2 -> 2508 | S28: 14 | T28: 0,8*1,2 | U28: =0.8*1.2 -> 0.96
A29: Остальные тпомещения (без назначения) | B29: стены | C29: =29.34*3*2+2.12 -> 178.16 | D29: =C29*3.4 -> 605.744 | G29: откосы | H29: дверной проем | I29: =(1.2+2.1*2+1.2+2.1*2)*2 -> 21.6 | M29: Итого отделка МОП тип эт.( 6 шт)
B30: полы | D30: =45.13*3*2+24.5 -> 295.28 | H30: оконный проем | I30: 0 | N30: стены | P30: =P16+P22 -> 2021.9784 | S30: окна | T30: размеры | U30: площадь
B31: потолок | D31: =D30 -> 295.28 | G31: сапожок, м.п. | H31: полы | I31: =I26-(1.2*2-1.12+11.25)*2 -> 15.4 | N31: полы | P31: =P17+P23 -> 2088.6 | S31: ок1 | T31: 1,2*1,3 | U31: =1.2*1.3 -> 1.56
A32: откосы | B32: дверной проем | G32: Ступень + подступенок, м.п. | H32: ступень и подступенок, м.п. | I32: =(27.5+29.7)*2 -> 114.4 | N32: потолок | P32: =P18+P24 -> 2134.68 | S32: ок2 | T32: 1,63*1,8 | U32: =1.63*1.8 -> 2.934
A33: сапожок, м.п. | B33: полы | C33: =C29 -> 178.16 | G33: Итого отделка МОП 1 эт. | M33: откосы | N33: дверной проем | O33: =O19+O25 -> 0 | S33: ок3 | T33: 1,37*1,6 | U33: =1.37*1.6 -> 2.192
A34: Остальные тпомещения (без назначения) БС2 | B34: стены | C34: =29.34*4*2+2.12+C24-26.3 -> 306.96 | D34: =C34*3.4 -> 1043.664 | H34: стены | J34: =J14+J20+J26 -> 438.7722 | N34: оконный проем | O34: =O20+O26 -> 35.64 | S34: ок4 | T34: 0,72*1,8+0,75*2,5 | U34: =0.72*1.8+0.75*2.5 -> 3.171
B35: полы | D35: =45.13*4*2+24.5*2 -> 410.04 | H35: полы | J35: =J15+J21+J27 -> 94.26 | M35: сапожок, м.п. | N35: полы | O35: =O21+O27 -> 1133.472
B36: потолок | D36: =D35 -> 410.04 | H36: потолок | J36: =J16+J22+J28 -> 103.06 | M36: Ступень + подступенок, м.п. | N36: ступень и подступенок, м.п. | O36: =O28 -> 2508
A37: откосы | B37: дверной проем | G37: откосы | H37: дверной проем | I37: =I17+I23+I29 -> 68.42 | M37: Итого отделка тип. эт.(6 шт)
A38: сапожок, м.п. | B38: полы | C38: =C34 -> 306.96 | H38: оконный проем | N38: стены | P38: =P22+P10+P16+P4 -> 15347.642
A39: Лестничная клетка, м2 (выход из подвала) | B39: сапожок, площадка | C39: =(12.26+17.7)*2 -> 59.92 | D39: =3.15*2 -> 6.3 | G39: сапожок, м.п. | H39: полы | I39: =I19+I25+I31 -> 78.9576 | N39: полы | P39: =P23+P11+P17+P5 -> 6567
A40: Ступень + подступенок, м.п. (выход из подвала) | B40: ступень и подступенок, м.п. | C40: =112*2 -> 224 | G40: Ступень + подступенок, м.п. | H40: ступень и подступенок, м.п. | I40: =I32 -> 114.4 | N40: потолок | P40: =P24+P12+P18+P6 -> 6613.08
...
